BEGIN:VCALENDAR
VERSION:2.0
PRODID:-//Toxinology.no - ECPv6.15.20//NONSGML v1.0//EN
CALSCALE:GREGORIAN
METHOD:PUBLISH
X-WR-CALNAME:Toxinology.no
X-ORIGINAL-URL:https://toxinology.no
X-WR-CALDESC:Events for Toxinology.no
REFRESH-INTERVAL;VALUE=DURATION:PT1H
X-Robots-Tag:noindex
X-PUBLISHED-TTL:PT1H
BEGIN:VTIMEZONE
TZID:UTC
BEGIN:STANDARD
TZOFFSETFROM:+0000
TZOFFSETTO:+0000
TZNAME:UTC
DTSTART:20170101T000000
END:STANDARD
END:VTIMEZONE
BEGIN:VEVENT
DTSTART;VALUE=DATE:20180715
DTEND;VALUE=DATE:20180720
DTSTAMP:20260426T053206
CREATED:20180626T084325Z
LAST-MODIFIED:20180626T084525Z
UID:71-1531612800-1532044799@toxinology.no
SUMMARY:ISSX: 22nd North American ISSX Meeting
DESCRIPTION:ISSX: 22nd North American ISSX meeting
URL:https://toxinology.no/event/issx-22nd-north-american-issx-meeting/
LOCATION:Palais des congrès de Montréal\, 1001 Place Jean-Paul-Riopelle Montreal\, QC\, Montral\, H2Z 1H5\, Canada
END:VEVENT
END:VCALENDAR